BEGIN:VCALENDAR
VERSION:2.0
PRODID:-//InvisionCommunity Events 4.7.24//EN
METHOD:PUBLISH
CALSCALE:GREGORIAN
REFRESH-INTERVAL:PT15M
X-PUBLISHED-TTL:PT15M
X-WR-CALNAME:Calendrier
NAME:Calendrier
BEGIN:VTIMEZONE
TZID:Europe/London
TZURL:http://tzurl.org/zoneinfo/Europe/London
X-LIC-LOCATION:Europe/London
BEGIN:DAYLIGHT
TZOFFSETFROM:+0000
TZOFFSETTO:+0100
TZNAME:BST
DTSTART:20210328T020000Z
RRULE:FREQ=YEARLY;BYMONTH=3;BYDAY=-1SU
END:DAYLIGHT
BEGIN:STANDARD
TZOFFSETFROM:+0100
TZOFFSETTO:+0000
TZNAME:GMT
DTSTART:20211031T020000Z
RRULE:FREQ=YEARLY;BYMONTH=10;BYDAY=-1SU
END:STANDARD
END:VTIMEZONE
BEGIN:VEVENT
SUMMARY:apres-midi prise de confiance
DTSTAMP:20211018T172757Z
SEQUENCE:0
UID:80-1-b7257e50ad12dff8be0e734610020dce@forum.evasionmoto34.com
ORGANIZER;CN="papaboulange":info@evasionmoto34.com
DESCRIPTION:\n	Les après midi prise de confiance reprennent du service\
	n\n\n\n	Jérôme aura le plaisir de vous y accueillir pour l'après midi\
	, à 14h au col de la Cardonille\n\n\n\n	Elle sera divisée en deux parti
	es :\n\n\n\n	- une premiere partie faite de petits exercices ludiques\n\n
	\n\n	- une deuxieme partie balade\n\n\n\n	 \n\n
DTSTART:20211106T130000Z
DTEND:20211106T170000Z
END:VEVENT
END:VCALENDAR
