BEGIN:VCALENDAR
VERSION:2.0
PRODID:-//InvisionCommunity Events 4.7.24//EN
METHOD:PUBLISH
CALSCALE:GREGORIAN
REFRESH-INTERVAL:PT15M
X-PUBLISHED-TTL:PT15M
X-WR-CALNAME:Calendrier
NAME:Calendrier
BEGIN:VTIMEZONE
TZID:Europe/London
TZURL:http://tzurl.org/zoneinfo/Europe/London
X-LIC-LOCATION:Europe/London
BEGIN:DAYLIGHT
TZOFFSETFROM:+0000
TZOFFSETTO:+0100
TZNAME:BST
DTSTART:20210328T020000Z
RRULE:FREQ=YEARLY;BYMONTH=3;BYDAY=-1SU
END:DAYLIGHT
BEGIN:STANDARD
TZOFFSETFROM:+0100
TZOFFSETTO:+0000
TZNAME:GMT
DTSTART:20211031T020000Z
RRULE:FREQ=YEARLY;BYMONTH=10;BYDAY=-1SU
END:STANDARD
END:VTIMEZONE
BEGIN:VEVENT
SUMMARY:Journée OFFROAD
DTSTAMP:20211010T093139Z
SEQUENCE:0
UID:78-1-b7257e50ad12dff8be0e734610020dce@forum.evasionmoto34.com
ORGANIZER;CN="lpm34":info@evasionmoto34.com
DESCRIPTION:\n	C'est reparti pour une nouvelle aventure\n\n\n\n	 \n\n\n
	\n	Notre partenaire Rando’Venture nous propose de faire des randonnées 
	Off-Road à la ½ journées ou à la journée.\n\n\n\n	Si cette discipline
	 vous intrigue\, venez la découvrir lors d’une ½ journée découverte.
	\n\n\n\n	Si vous êtes déjà mordus\, rejoignez une randonnée à la ½ 
	journée ou à la journée.\n\n\n\n	 \n\n\n\n	Pour une première découve
	rte\, il vous suffit d’être équipé d’un casque intégral\, blouson\
	, pantalon moto\, gants d’été\, et chaussures ou bottes motos. Pas bes
	oin d’un équipement dédié off-road\, votre équipement route fonction
	nera très bien.\n\n\n\n	 \n\n\n\n	Pour tout autre randonnée\, nous vous
	 préconisons un équipement plus adapté à cette discipline : à minima
	 botte off-road\, casque et lunettes off-road\, et protections (genouillè
	res\, gilet off-road\, etc.)\n\n\n\n	 \n\n\n\n	Pour les motos\, c’est 
	prévu : 3 DRZ 400 seront à votre disposition.\n\n\n\n	Des groupes de ni
	veau seront créés afin que chacun puisse évoluer à son rythme.\n\n\n\
	n	 \n\n\n\n	Tarif : à partir de 90 euros la ½ journée\n\n\n\n	Pas de c
	aution demandée\, si petite casse il y a\, paiement direct de la réparat
	ion par la personne.\n\n\n\n	 \n\n\n\n	Le nombre de places est donc limi
	té à 3 le matin et 3 l'après-midi\n\n\n\n	 \n\n\n\n	Infos\, messages e
	t inscriptions ici : \n\n\n\n\n	 \n\n
DTSTART;VALUE=DATE:20211121
END:VEVENT
END:VCALENDAR
