BEGIN:VCALENDAR
VERSION:2.0
PRODID:-//InvisionCommunity Events 4.7.24//EN
METHOD:PUBLISH
CALSCALE:GREGORIAN
REFRESH-INTERVAL:PT15M
X-PUBLISHED-TTL:PT15M
X-WR-CALNAME:Calendrier
NAME:Calendrier
BEGIN:VTIMEZONE
TZID:Europe/London
TZURL:http://tzurl.org/zoneinfo/Europe/London
X-LIC-LOCATION:Europe/London
BEGIN:DAYLIGHT
TZOFFSETFROM:+0000
TZOFFSETTO:+0100
TZNAME:BST
DTSTART:20200329T020000Z
RRULE:FREQ=YEARLY;BYMONTH=3;BYDAY=-1SU
END:DAYLIGHT
BEGIN:STANDARD
TZOFFSETFROM:+0100
TZOFFSETTO:+0000
TZNAME:GMT
DTSTART:20201025T020000Z
RRULE:FREQ=YEARLY;BYMONTH=10;BYDAY=-1SU
END:STANDARD
END:VTIMEZONE
BEGIN:VEVENT
SUMMARY:Balade apprentissage
DTSTAMP:20190810T134118Z
SEQUENCE:0
UID:53-1-b7257e50ad12dff8be0e734610020dce@forum.evasionmoto34.com
ORGANIZER;CN="Flohw":info@evasionmoto34.com
DESCRIPTION:\n	Balade apprentissage du 15 mars\n
DTSTART;VALUE=DATE:20200315
ATTENDEE;CN="Derka";CUTYPE=INDIVIDUAL;PARTSTAT=ACCEPTED:info
	@evasionmoto34.com
ATTENDEE;CN="diversion";CUTYPE=INDIVIDUAL;PARTSTAT=ACCEPTED:
	info@evasionmoto34.com
ATTENDEE;CN="JeeP'S";CUTYPE=INDIVIDUAL;PARTSTAT=ACCEPTED:inf
	o@evasionmoto34.com
ATTENDEE;CN="bbert";CUTYPE=INDIVIDUAL;PARTSTAT=ACCEPTED:info
	@evasionmoto34.com
END:VEVENT
END:VCALENDAR
