BEGIN:VCALENDAR
VERSION:2.0
PRODID:-//InvisionCommunity Events 4.7.24//EN
METHOD:PUBLISH
CALSCALE:GREGORIAN
REFRESH-INTERVAL:PT15M
X-PUBLISHED-TTL:PT15M
X-WR-CALNAME:Calendrier
NAME:Calendrier
BEGIN:VTIMEZONE
TZID:Europe/London
TZURL:http://tzurl.org/zoneinfo/Europe/London
X-LIC-LOCATION:Europe/London
BEGIN:DAYLIGHT
TZOFFSETFROM:+0000
TZOFFSETTO:+0100
TZNAME:BST
DTSTART:20190331T020000Z
RRULE:FREQ=YEARLY;BYMONTH=3;BYDAY=-1SU
END:DAYLIGHT
BEGIN:STANDARD
TZOFFSETFROM:+0100
TZOFFSETTO:+0000
TZNAME:GMT
DTSTART:20191027T020000Z
RRULE:FREQ=YEARLY;BYMONTH=10;BYDAY=-1SU
END:STANDARD
END:VTIMEZONE
BEGIN:VEVENT
SUMMARY:Week-end La Relève 2
DTSTAMP:20190407T102028Z
SEQUENCE:0
UID:39-1-b7257e50ad12dff8be0e734610020dce@forum.evasionmoto34.com
ORGANIZER;CN="Flohw":info@evasionmoto34.com
DESCRIPTION:\n\n	 \n
DTSTART;VALUE=DATE:20191012
DTEND;VALUE=DATE:20191014
ATTENDEE;CN="Flohw";CUTYPE=INDIVIDUAL;PARTSTAT=ACCEPTED:info
	@evasionmoto34.com
ATTENDEE;CN="WillHO3";CUTYPE=INDIVIDUAL;PARTSTAT=ACCEPTED:in
	fo@evasionmoto34.com
ATTENDEE;CN="levla";CUTYPE=INDIVIDUAL;PARTSTAT=ACCEPTED:info
	@evasionmoto34.com
ATTENDEE;CN="LOLO1";CUTYPE=INDIVIDUAL;PARTSTAT=ACCEPTED:info
	@evasionmoto34.com
ATTENDEE;CN="Dragonride";CUTYPE=INDIVIDUAL;PARTSTAT=ACCEPTED
	:info@evasionmoto34.com
ATTENDEE;CN="wok";CUTYPE=INDIVIDUAL;PARTSTAT=ACCEPTED:info@e
	vasionmoto34.com
ATTENDEE;CN="dorlan";CUTYPE=INDIVIDUAL;PARTSTAT=ACCEPTED:inf
	o@evasionmoto34.com
ATTENDEE;CN="MOTARDJP";CUTYPE=INDIVIDUAL;PARTSTAT=ACCEPTED:i
	nfo@evasionmoto34.com
ATTENDEE;CN="katoche34";CUTYPE=INDIVIDUAL;PARTSTAT=ACCEPTED:
	info@evasionmoto34.com
ATTENDEE;CN="Mike";CUTYPE=INDIVIDUAL;PARTSTAT=ACCEPTED:info@
	evasionmoto34.com
ATTENDEE;CN="melman34";CUTYPE=INDIVIDUAL;PARTSTAT=ACCEPTED:i
	nfo@evasionmoto34.com
ATTENDEE;CN="Laurence (laly34)";CUTYPE=INDIVIDUAL;PARTSTAT=A
	CCEPTED:info@evasionmoto34.com
ATTENDEE;CN="metms34";CUTYPE=INDIVIDUAL;PARTSTAT=ACCEPTED:in
	fo@evasionmoto34.com
ATTENDEE;CN="Estelle";CUTYPE=INDIVIDUAL;PARTSTAT=ACCEPTED:in
	fo@evasionmoto34.com
ATTENDEE;CN="Stel34";CUTYPE=INDIVIDUAL;PARTSTAT=ACCEPTED:inf
	o@evasionmoto34.com
ATTENDEE;CN="Tuono34";CUTYPE=INDIVIDUAL;PARTSTAT=ACCEPTED:in
	fo@evasionmoto34.com
ATTENDEE;CN="Fkt34";CUTYPE=INDIVIDUAL;PARTSTAT=ACCEPTED:info
	@evasionmoto34.com
ATTENDEE;CN="Sasa";CUTYPE=INDIVIDUAL;PARTSTAT=ACCEPTED:info@
	evasionmoto34.com
ATTENDEE;CN="Motard Du Dimanche";CUTYPE=INDIVIDUAL;PARTSTAT=
	ACCEPTED:info@evasionmoto34.com
ATTENDEE;CN="BABOU30";CUTYPE=INDIVIDUAL;PARTSTAT=ACCEPTED:in
	fo@evasionmoto34.com
END:VEVENT
END:VCALENDAR
