BEGIN:VCALENDAR
VERSION:2.0
PRODID:-//InvisionCommunity Events 4.7.24//EN
METHOD:PUBLISH
CALSCALE:GREGORIAN
REFRESH-INTERVAL:PT15M
X-PUBLISHED-TTL:PT15M
X-WR-CALNAME:Calendrier
NAME:Calendrier
BEGIN:VTIMEZONE
TZID:Europe/London
TZURL:http://tzurl.org/zoneinfo/Europe/London
X-LIC-LOCATION:Europe/London
BEGIN:DAYLIGHT
TZOFFSETFROM:+0000
TZOFFSETTO:+0100
TZNAME:BST
DTSTART:20190331T020000Z
RRULE:FREQ=YEARLY;BYMONTH=3;BYDAY=-1SU
END:DAYLIGHT
BEGIN:STANDARD
TZOFFSETFROM:+0100
TZOFFSETTO:+0000
TZNAME:GMT
DTSTART:20191027T020000Z
RRULE:FREQ=YEARLY;BYMONTH=10;BYDAY=-1SU
END:STANDARD
END:VTIMEZONE
BEGIN:VEVENT
SUMMARY:Soirée de rentrée
DTSTAMP:20190106T105455Z
SEQUENCE:0
UID:31-1-b7257e50ad12dff8be0e734610020dce@forum.evasionmoto34.com
ORGANIZER;CN="lpm34":info@evasionmoto34.com
DESCRIPTION:\n	Le post de ce rdv : \n\n\n\n\n	 \n\n\n\n	Chacun emmene u
	n qqc a manger et/ou a boire (charcuterie\, pizza\, bieres\, galettes\, vi
	n\, etc)... nous avons un frigo et un micro onde\n\n\n\n	Rendez vous le ve
	ndredi 11 janvier au local a 19h\n\n\n\n	 \n\n\n\n	Adresse de la salle : 
	27 avenue du 8 mai 1945 à Castries\n\n\n\n	\n
DTSTART:20190111T180000Z
END:VEVENT
END:VCALENDAR
