BEGIN:VCALENDAR
VERSION:2.0
PRODID:-//InvisionCommunity Events 4.7.24//EN
METHOD:PUBLISH
CALSCALE:GREGORIAN
REFRESH-INTERVAL:PT15M
X-PUBLISHED-TTL:PT15M
X-WR-CALNAME:Calendrier
NAME:Calendrier
BEGIN:VTIMEZONE
TZID:Europe/London
TZURL:http://tzurl.org/zoneinfo/Europe/London
X-LIC-LOCATION:Europe/London
BEGIN:DAYLIGHT
TZOFFSETFROM:+0000
TZOFFSETTO:+0100
TZNAME:BST
DTSTART:20190331T020000Z
RRULE:FREQ=YEARLY;BYMONTH=3;BYDAY=-1SU
END:DAYLIGHT
BEGIN:STANDARD
TZOFFSETFROM:+0100
TZOFFSETTO:+0000
TZNAME:GMT
DTSTART:20191027T020000Z
RRULE:FREQ=YEARLY;BYMONTH=10;BYDAY=-1SU
END:STANDARD
END:VTIMEZONE
BEGIN:VEVENT
SUMMARY:10 ans Evasion Moto
DTSTAMP:20181227T093655Z
SEQUENCE:0
UID:30-1-b7257e50ad12dff8be0e734610020dce@forum.evasionmoto34.com
ORGANIZER;CN="lpm34":info@evasionmoto34.com
DESCRIPTION:\n\n	4ème réunion préparatoire de l'évènement\n\n\n\n	r
	dv 20h au local\n\n
DTSTART:20190116T190000Z
END:VEVENT
END:VCALENDAR
