BEGIN:VCALENDAR
VERSION:2.0
PRODID:-//InvisionCommunity Events 4.7.24//EN
METHOD:PUBLISH
CALSCALE:GREGORIAN
REFRESH-INTERVAL:PT15M
X-PUBLISHED-TTL:PT15M
X-WR-CALNAME:Calendrier
NAME:Calendrier
BEGIN:VTIMEZONE
TZID:Europe/London
TZURL:http://tzurl.org/zoneinfo/Europe/London
X-LIC-LOCATION:Europe/London
BEGIN:DAYLIGHT
TZOFFSETFROM:+0000
TZOFFSETTO:+0100
TZNAME:BST
DTSTART:20180325T020000Z
RRULE:FREQ=YEARLY;BYMONTH=3;BYDAY=-1SU
END:DAYLIGHT
BEGIN:STANDARD
TZOFFSETFROM:+0100
TZOFFSETTO:+0000
TZNAME:GMT
DTSTART:20181028T020000Z
RRULE:FREQ=YEARLY;BYMONTH=10;BYDAY=-1SU
END:STANDARD
END:VTIMEZONE
BEGIN:VEVENT
SUMMARY:ANNULÉ Après midi prise de confiance
DTSTAMP:20180929T145123Z
SEQUENCE:0
UID:17-1-b7257e50ad12dff8be0e734610020dce@forum.evasionmoto34.com
ORGANIZER;CN="Flohw":info@evasionmoto34.com
DESCRIPTION:\n	Après midi prise de confiance du 17 novembre\n
DTSTART:20181117T130000Z
DTEND:20181117T160000Z
ATTENDEE;CN="Flohw";CUTYPE=INDIVIDUAL;PARTSTAT=ACCEPTED:info
	@evasionmoto34.com
ATTENDEE;CN="rené";CUTYPE=INDIVIDUAL;PARTSTAT=ACCEPTED:info
	@evasionmoto34.com
END:VEVENT
END:VCALENDAR
