BEGIN:VCALENDAR
VERSION:2.0
PRODID:-//InvisionCommunity Events 4.7.24//EN
METHOD:PUBLISH
CALSCALE:GREGORIAN
REFRESH-INTERVAL:PT15M
X-PUBLISHED-TTL:PT15M
X-WR-CALNAME:Calendrier
NAME:Calendrier
BEGIN:VTIMEZONE
TZID:Europe/London
TZURL:http://tzurl.org/zoneinfo/Europe/London
X-LIC-LOCATION:Europe/London
BEGIN:DAYLIGHT
TZOFFSETFROM:+0000
TZOFFSETTO:+0100
TZNAME:BST
DTSTART:20190331T020000Z
RRULE:FREQ=YEARLY;BYMONTH=3;BYDAY=-1SU
END:DAYLIGHT
BEGIN:STANDARD
TZOFFSETFROM:+0100
TZOFFSETTO:+0000
TZNAME:GMT
DTSTART:20191027T020000Z
RRULE:FREQ=YEARLY;BYMONTH=10;BYDAY=-1SU
END:STANDARD
END:VTIMEZONE
BEGIN:VEVENT
SUMMARY:Balade apprentissage
DTSTAMP:20180929T144622Z
SEQUENCE:0
UID:14-1-b7257e50ad12dff8be0e734610020dce@forum.evasionmoto34.com
ORGANIZER;CN="Flohw":info@evasionmoto34.com
DESCRIPTION:\n	Balade apprentissage du 12 mai\n\n\n\n	 \n\n\n\n	Rendez 
	vous pour cette balade mensuelle\, avec vos pique nique\, le plein des mot
	os et votre bonne humeur\n\n\n\n	Adresse de la salle : 27 avenue du 8 mai 
	1945 à Castries\n\n\n\n	﻿\n\n\n\n	\n2 horaires :﻿\n- 9h pour les enc
	adrés\, départ vers 10h-10h15 après le petit briefing\n- 9h30 pour les 
	accompagnants\, départ 10h\n
DTSTART;VALUE=DATE:20190512
ATTENDEE;CN="Flohw";CUTYPE=INDIVIDUAL;PARTSTAT=ACCEPTED:info
	@evasionmoto34.com
ATTENDEE;CN="Enrico 34";CUTYPE=INDIVIDUAL;PARTSTAT=ACCEPTED:
	info@evasionmoto34.com
ATTENDEE;CN="Dragonride";CUTYPE=INDIVIDUAL;PARTSTAT=ACCEPTED
	:info@evasionmoto34.com
ATTENDEE;CN="lpm34";CUTYPE=INDIVIDUAL;PARTSTAT=ACCEPTED:info
	@evasionmoto34.com
ATTENDEE;CN="Nitro";CUTYPE=INDIVIDUAL;PARTSTAT=ACCEPTED:info
	@evasionmoto34.com
ATTENDEE;CN="Fat ben 114";CUTYPE=INDIVIDUAL;PARTSTAT=ACCEPTE
	D:info@evasionmoto34.com
ATTENDEE;CN="nono77";CUTYPE=INDIVIDUAL;PARTSTAT=ACCEPTED:inf
	o@evasionmoto34.com
ATTENDEE;CN="Karibou34";CUTYPE=INDIVIDUAL;PARTSTAT=ACCEPTED:
	info@evasionmoto34.com
END:VEVENT
END:VCALENDAR
