BEGIN:VCALENDAR
VERSION:2.0
PRODID:-//InvisionCommunity Events 4.7.24//EN
METHOD:PUBLISH
CALSCALE:GREGORIAN
REFRESH-INTERVAL:PT15M
X-PUBLISHED-TTL:PT15M
X-WR-CALNAME:Calendrier
NAME:Calendrier
BEGIN:VTIMEZONE
TZID:Europe/London
TZURL:http://tzurl.org/zoneinfo/Europe/London
X-LIC-LOCATION:Europe/London
BEGIN:DAYLIGHT
TZOFFSETFROM:+0000
TZOFFSETTO:+0100
TZNAME:BST
DTSTART:20220327T020000Z
RRULE:FREQ=YEARLY;BYMONTH=3;BYDAY=-1SU
END:DAYLIGHT
BEGIN:STANDARD
TZOFFSETFROM:+0100
TZOFFSETTO:+0000
TZNAME:GMT
DTSTART:20221030T020000Z
RRULE:FREQ=YEARLY;BYMONTH=10;BYDAY=-1SU
END:STANDARD
END:VTIMEZONE
BEGIN:VEVENT
SUMMARY:Balade Apprentissage 11 Septembre 2022
DTSTAMP:20220820T084917Z
SEQUENCE:0
UID:104-1-b7257e50ad12dff8be0e734610020dce@forum.evasionmoto34.com
ORGANIZER;CN="lpm34":info@evasionmoto34.com
DESCRIPTION:\n	La saison 2022-2023 va bientôt être relancée\n\n\n\n	E
	n effet c'est le dimanche 11 septembre prochain que la première balade ap
	prentissage de la saison sera programmée\n\n\n\n	 \n\n\n\n	Pour une fois
	 ce sera une balade apprentissage avec un thème défini par avance : le r
	oulage en groupe\n\n\n\n	Elle s'adresse autant aux jeunes permis qu'aux pl
	us confirmés désireux de mieux connaitre ce mode de roulage.\n\n\n\n	 \
	n\n\n\n	Pour vous inscrire\, ne le faites pas ici mais sur le sujet publi
	é sur le forum. Merci.\n\n\n\n	 \n\n\n\n	Rendez vous pour cette balade m
	ensuelle\, avec vos pique nique\, le plein des motos et votre bonne humeur
	\n\n\n\n	Adresse de la salle : 27 avenue du 8 mai 1945 à Castries\n\n\n\n
		﻿\n\n\n\n	\n- 8h45 pour les encadrés\, briefing et théorie à 9h\,
	 départ vers 10h15 après le petit briefing\n\n\n\n	- 9h30 pour les acco
	mpagnants pour départ max à 10h\n\nN'hésitez pas a lire la charte des 
	Balades Apprentissage ainsi que les explications sur les Différents Gro
	upes\n\n\n\n	 \n\n\n\n	 \n\n\n\n	LE ROAD : bientôt disponible\n\n\n\n
		 \n\n\n\n	 \n\n\n\n	ARRET MIAM (si possible) : \n\n\n\n	 \n\n\n\n	 
	\n\n\n\n	LES ENCADRANTS\n\n	- @lpm34\n\n\n\n	- @papaboulange\n\n\n\n	 \n\
	n\n\n	 \n\n\n\n	LES ENCADRES :\n\n\n\n	 \n\n\n\n	 \n\n\n\n	Les Accompa
	gnants (chaque nouveau membre sera évalué dans ce groupe par un membre
	 référent pour sa première sortie). Ce groupe s'autogère et roule en m
	arge du groupe encadrants/encadrés. On essaie de se rejoindre le midi pou
	r le pique nique :\n\n\n\n	 \n\n\n\n	LES ACCOMPAGNANTS\n\n\n\n	Ouvreur
	 : \n\n\n\n	Milieu de file (si + de 8 motos) :\n\n\n\n	Serre file : \n\
	n
DTSTART;VALUE=DATE:20220911
ATTENDEE;CN="lpm34";CUTYPE=INDIVIDUAL;PARTSTAT=ACCEPTED:info
	@evasionmoto34.com
ATTENDEE;CN="Fat ben 114";CUTYPE=INDIVIDUAL;PARTSTAT=ACCEPTE
	D:info@evasionmoto34.com
ATTENDEE;CN="YAYA";CUTYPE=INDIVIDUAL;PARTSTAT=ACCEPTED:info@
	evasionmoto34.com
END:VEVENT
END:VCALENDAR
