BEGIN:VCALENDAR
VERSION:2.0
PRODID:-//InvisionCommunity Events 4.7.24//EN
METHOD:PUBLISH
CALSCALE:GREGORIAN
REFRESH-INTERVAL:PT15M
X-PUBLISHED-TTL:PT15M
X-WR-CALNAME:Calendrier
NAME:Calendrier
BEGIN:VTIMEZONE
TZID:Europe/London
TZURL:http://tzurl.org/zoneinfo/Europe/London
X-LIC-LOCATION:Europe/London
BEGIN:DAYLIGHT
TZOFFSETFROM:+0000
TZOFFSETTO:+0100
TZNAME:BST
DTSTART:20220327T020000Z
RRULE:FREQ=YEARLY;BYMONTH=3;BYDAY=-1SU
END:DAYLIGHT
BEGIN:STANDARD
TZOFFSETFROM:+0100
TZOFFSETTO:+0000
TZNAME:GMT
DTSTART:20221030T020000Z
RRULE:FREQ=YEARLY;BYMONTH=10;BYDAY=-1SU
END:STANDARD
END:VTIMEZONE
BEGIN:VEVENT
SUMMARY:Stage Passion Moto Formation - Niveau 1
DTSTAMP:20211221T110823Z
SEQUENCE:0
UID:100-1-b7257e50ad12dff8be0e734610020dce@forum.evasionmoto34.com
ORGANIZER;CN="lpm34":info@evasionmoto34.com
DESCRIPTION:\n	Inscription via le formulaire ci dessous\n\n\n\n	Info et 
	autre sur un post à venir sur le forum\n\n\n\n	Bulletin d'inscription.pdf
	\n\n
DTSTART:20220618T064500Z
DTEND:20220618T160000Z
ATTENDEE;CN="papaboulange";CUTYPE=INDIVIDUAL;PARTSTAT=ACCEPT
	ED:info@evasionmoto34.com
END:VEVENT
END:VCALENDAR
